BEGIN:VCALENDAR
VERSION:2.0
PRODID:-//House of PMO - ECPv6.15.17//NONSGML v1.0//EN
CALSCALE:GREGORIAN
METHOD:PUBLISH
X-WR-CALNAME:House of PMO
X-ORIGINAL-URL:https://houseofpmo.com
X-WR-CALDESC:Events for House of PMO
REFRESH-INTERVAL;VALUE=DURATION:PT1H
X-Robots-Tag:noindex
X-PUBLISHED-TTL:PT1H
BEGIN:VTIMEZONE
TZID:Europe/London
BEGIN:DAYLIGHT
TZOFFSETFROM:+0000
TZOFFSETTO:+0100
TZNAME:BST
DTSTART:20250330T010000
END:DAYLIGHT
BEGIN:STANDARD
TZOFFSETFROM:+0100
TZOFFSETTO:+0000
TZNAME:GMT
DTSTART:20251026T010000
END:STANDARD
BEGIN:DAYLIGHT
TZOFFSETFROM:+0000
TZOFFSETTO:+0100
TZNAME:BST
DTSTART:20260329T010000
END:DAYLIGHT
BEGIN:STANDARD
TZOFFSETFROM:+0100
TZOFFSETTO:+0000
TZNAME:GMT
DTSTART:20261025T010000
END:STANDARD
BEGIN:DAYLIGHT
TZOFFSETFROM:+0000
TZOFFSETTO:+0100
TZNAME:BST
DTSTART:20270328T010000
END:DAYLIGHT
BEGIN:STANDARD
TZOFFSETFROM:+0100
TZOFFSETTO:+0000
TZNAME:GMT
DTSTART:20271031T010000
END:STANDARD
END:VTIMEZONE
BEGIN:VEVENT
DTSTART;TZID=Europe/London:20260424T121500
DTEND;TZID=Europe/London:20260424T130000
DTSTAMP:20260424T110735
CREATED:20260320T111716Z
LAST-MODIFIED:20260320T113625Z
UID:990000563-1777032900-1777035600@houseofpmo.com
SUMMARY:PMO HotHouse / April 2026
DESCRIPTION:PMO HotHouse is back with another 45-minute mix of insight\, ideas and conversation. Join Eileen\, Lindsay and John as they share the latest from across the PMO world\, put a practitioner in the HotSeat and explore a key skill from the competency framework. It’s quick\, varied and designed to keep you interested all the way through. \nYou never quite know what you’re going to get. One minute it’s something practical you can use straight away\, the next it’s a curveball from another industry that somehow fits perfectly. It’s not polished in a scripted way\, and that’s kind of the point. \nRegister to join us in the live audience\, or follow House of PMO on LinkedIn or YouTube to watch the livestream.
URL:https://houseofpmo.com/event/pmo-hothouse-april-2026/
CATEGORIES:Live!
ATTACH;FMTTYPE=image/png:https://houseofpmo.com/wp-content/uploads/2026/03/HotHouse-pmo-april2026.png
LOCATION:https://houseofpmo.com/event/pmo-hothouse-april-2026/
END:VEVENT
BEGIN:VEVENT
DTSTART;TZID=Europe/London:20260506T163000
DTEND;TZID=Europe/London:20260506T193000
DTSTAMP:20260424T110735
CREATED:20260401T163742Z
LAST-MODIFIED:20260401T165819Z
UID:990000573-1778085000-1778095800@houseofpmo.com
SUMMARY:PMO at Sea: Staying Relevant in a World That Won’t Sit Still
DESCRIPTION:Step onboard for a PMO event like no other – our first ever session hosted at sea.\nJoin us in person on a Red Funnel ferry as we sail from Southampton to the Isle of Wight\, for an interactive masterclass session led by the Roke PMO team. \nIt’s a chance to step out of the usual setting and explore how PMOs operate when everything around them is moving (literally and organisationally). \nA structured\, interactive session led by the Roke PMO team\, exploring how the PMO role can evolve to continually add value in complex and fast-changing environments.  \nAt Roke\, their mission is to shape the future of digital defence and security by solving complex\, high-stakes challenges with purpose and lasting impact. The domains in which they operate are strongly influenced by global political and technological change\, creating dynamic and evolving customer needs across the world. \nTo support this\, Roke’s PMO function is designed to be highly adaptable\, enabling informed decision-making and efficient delivery at pace.  \nIn this session\, they will discuss practical approaches and lessons learned on how a modern PMO can continuously adjust its services to meet business needs\, maximise value\, and support delivery in uncertain environments. Expect lots of interactivity and sharing as we make our way out to sea. \nAs we sail across the Solent\, this is your chance to step away from the day-to-day\, connect with others\, and reflect on how your PMO can stay on course in changing conditions. Whether you’re navigating calm waters or choppier seas\, you’ll leave with fresh ideas\, practical takeaways\, and a clearer sense of direction for the journey ahead. \nWhat You Need to Know\nThis is an in-person event taking place onboard a Red Funnel ferry\, departing from Southampton. Please read the following before registering to attend: \n\nYou must arrive on time and be ready to board between 16:30 and 16:40 – the ferry will depart promptly and late arrivals may not be able to join\nBy registering\, you are committing to attend; if your plans change\, please let us know as early as possible so your place can be offered to someone else\nAttendees are responsible for their own travel to and from the ferry terminal\nParking is available nearby\, with both paid and limited free options (full details will be shared in the joining instructions)\nThe event takes place onboard a scheduled ferry service\, so timings and arrangements are subject to operational conditions\nAll attendees are expected to follow instructions from the event hosts and ferry operator to ensure a safe and smooth experience\n\nMany thanks to the PMO team at Red Funnel for the opportunity to take the PMO on the high seas! \n  \nRegistration closes on Friday 1st May at 4pm BST
URL:https://houseofpmo.com/event/pmo-at-sea-staying-relevant-in-a-world-that-wont-sit-still/
LOCATION:Red Funnel\, Red Funnel Terminal 1\, Southampton\, SO14 2AL
CATEGORIES:In-Person,Listen and Learn
ATTACH;FMTTYPE=image/jpeg:https://houseofpmo.com/wp-content/uploads/2026/04/PMO-At-Sea-Southampton-HousePMO.jpeg
END:VEVENT
BEGIN:VEVENT
DTSTART;TZID=Europe/London:20260512T173000
DTEND;TZID=Europe/London:20260512T200000
DTSTAMP:20260424T110735
CREATED:20260326T121705Z
LAST-MODIFIED:20260326T121850Z
UID:990000571-1778607000-1778616000@houseofpmo.com
SUMMARY:International PMO Day: Celebrating PMO – and the many ways it makes a difference!
DESCRIPTION:In-Person Event / London\nJoin us on International PMO Day for a special in-person gathering in the heart of London\, as we celebrate the vital role PMOs play in shaping successful change across organisations. \nThis session takes a practical and celebratory look at the many ways PMO supports change\, P3M delivery and decision-making across an organisation. \nPMO means different things to different people. For some\, it’s a formal office or team. For others\, it’s a role\, a set of services\, or simply the work that helps projects\, programmes and portfolios run more effectively. That’s often where the confusion starts but also where the opportunity sits. \nTogether\, we’ll explore what PMO actually does in practice\, the different shapes it can take\, and the value it brings at every level – from coordination and control through to insight\, enablement and strategic support. Drawing on House of PMO’s work across the wider PMO community\, and inviting attendees to share their own experiences\, questions and observations\, we’ll build a shared understanding of what good PMO looks like in a complex organisation and the contribution it makes. \nIt’s a chance to celebrate PMO in all its forms\, recognise the people behind it\, and open up a useful conversation about what PMO really means in practice. \nHelp Us Celebrate\nAnd because it’s a celebration\, we’ll continue the conversation afterwards with drinks nearby – a relaxed way to connect\, swap stories and mark the occasion together. \nCome along\, be part of it\, and celebrate PMO in all its forms. \nSet in historic Southwark – one of London’s oldest and most dynamic areas\, long associated with movement\, trade and new ideas – it’s a fitting backdrop for a conversation about the role PMO plays in enabling change across organisations. \n 
URL:https://houseofpmo.com/event/international-pmo-day-celebrating-pmo-and-the-many-ways-it-makes-a-difference/
LOCATION:TfL\, Palestra\, 197 Blackfriars Road\, London\, SE1 8NJ\, Palestra\, 197 Blackfriars Road\,\, London\, SE1 8NJ
CATEGORIES:In-Person
ATTACH;FMTTYPE=image/jpeg:https://houseofpmo.com/wp-content/uploads/2026/03/Int-PMO-Day-TfL.jpg
END:VEVENT
BEGIN:VEVENT
DTSTART;TZID=Europe/London:20260529T121500
DTEND;TZID=Europe/London:20260529T130000
DTSTAMP:20260424T110735
CREATED:20260320T113451Z
LAST-MODIFIED:20260320T115049Z
UID:990000564-1780056900-1780059600@houseofpmo.com
SUMMARY:PMO HotHouse / May 2026
DESCRIPTION:Step into PMO HotHouse for a lively mix of discussion\, debate and fresh thinking. In just 45 minutes\, you’ll hear the latest news\, explore a key skill from the PMO Competency Framework\, and get real-world insight from a practitioner in the HotSeat. It’s informal\, interactive and packed with ideas you can take straight back into your role. \nWhat makes it different? The format keeps shifting. You might find yourself voting on trends\, picking apart jargon\, or hearing a “great idea” that’s so simple you’ll wonder why you’re not already doing it. And just when you think you know what’s coming next… you probably don’t. \nRegister to join us in the live audience\, or follow House of PMO on LinkedIn or YouTube to watch the livestream.
URL:https://houseofpmo.com/event/pmo-hothouse-may-2026/
CATEGORIES:Live!
ATTACH;FMTTYPE=image/png:https://houseofpmo.com/wp-content/uploads/2026/03/HotHouse-pmo-may2026.png
LOCATION:https://houseofpmo.com/event/pmo-hothouse-may-2026/
END:VEVENT
END:VCALENDAR