BEGIN:VCALENDAR
VERSION:2.0
PRODID:-//House of PMO - ECPv6.15.17//NONSGML v1.0//EN
CALSCALE:GREGORIAN
METHOD:PUBLISH
X-WR-CALNAME:House of PMO
X-ORIGINAL-URL:https://houseofpmo.com
X-WR-CALDESC:Events for House of PMO
REFRESH-INTERVAL;VALUE=DURATION:PT1H
X-Robots-Tag:noindex
X-PUBLISHED-TTL:PT1H
BEGIN:VTIMEZONE
TZID:Europe/London
BEGIN:DAYLIGHT
TZOFFSETFROM:+0000
TZOFFSETTO:+0100
TZNAME:BST
DTSTART:20250330T010000
END:DAYLIGHT
BEGIN:STANDARD
TZOFFSETFROM:+0100
TZOFFSETTO:+0000
TZNAME:GMT
DTSTART:20251026T010000
END:STANDARD
BEGIN:DAYLIGHT
TZOFFSETFROM:+0000
TZOFFSETTO:+0100
TZNAME:BST
DTSTART:20260329T010000
END:DAYLIGHT
BEGIN:STANDARD
TZOFFSETFROM:+0100
TZOFFSETTO:+0000
TZNAME:GMT
DTSTART:20261025T010000
END:STANDARD
BEGIN:DAYLIGHT
TZOFFSETFROM:+0000
TZOFFSETTO:+0100
TZNAME:BST
DTSTART:20270328T010000
END:DAYLIGHT
BEGIN:STANDARD
TZOFFSETFROM:+0100
TZOFFSETTO:+0000
TZNAME:GMT
DTSTART:20271031T010000
END:STANDARD
END:VTIMEZONE
BEGIN:VEVENT
DTSTART;TZID=Europe/London:20260731T121500
DTEND;TZID=Europe/London:20260731T130000
DTSTAMP:20260421T113537
CREATED:20260320T120523Z
LAST-MODIFIED:20260320T120523Z
UID:990000567-1785500100-1785502800@houseofpmo.com
SUMMARY:PMO HotHouse / July 2026
DESCRIPTION:PMO HotHouse brings together community\, insight and a bit of fun in a format that feels more like a show than a session. Expect a mix of trends\, practical takeaways\, and honest conversations with people working in PMO right now — all delivered in quick\, engaging segments. \nIt’s also a space where ideas get tested. Some will land\, some might divide opinion\, and others might just spark something new for you to try. With features like Hot or Not and Smash and Grab\, you’ll see what happens when PMO thinking meets ideas from outside the profession. \nRegister to join us in the live audience\, or follow House of PMO on LinkedIn or YouTube to watch the livestream.
URL:https://houseofpmo.com/event/pmo-hothouse-july-2026/
CATEGORIES:Live!
ATTACH;FMTTYPE=image/png:https://houseofpmo.com/wp-content/uploads/2026/03/HotHouse-july2026-pmo.png
LOCATION:https://houseofpmo.com/event/pmo-hothouse-july-2026/
END:VEVENT
END:VCALENDAR