BEGIN:VCALENDAR
VERSION:2.0
PRODID:-//House of PMO - ECPv6.15.17//NONSGML v1.0//EN
CALSCALE:GREGORIAN
METHOD:PUBLISH
X-WR-CALNAME:House of PMO
X-ORIGINAL-URL:https://houseofpmo.com
X-WR-CALDESC:Events for House of PMO
REFRESH-INTERVAL;VALUE=DURATION:PT1H
X-Robots-Tag:noindex
X-PUBLISHED-TTL:PT1H
BEGIN:VTIMEZONE
TZID:Europe/London
BEGIN:DAYLIGHT
TZOFFSETFROM:+0000
TZOFFSETTO:+0100
TZNAME:BST
DTSTART:20240331T010000
END:DAYLIGHT
BEGIN:STANDARD
TZOFFSETFROM:+0100
TZOFFSETTO:+0000
TZNAME:GMT
DTSTART:20241027T010000
END:STANDARD
BEGIN:DAYLIGHT
TZOFFSETFROM:+0000
TZOFFSETTO:+0100
TZNAME:BST
DTSTART:20250330T010000
END:DAYLIGHT
BEGIN:STANDARD
TZOFFSETFROM:+0100
TZOFFSETTO:+0000
TZNAME:GMT
DTSTART:20251026T010000
END:STANDARD
BEGIN:DAYLIGHT
TZOFFSETFROM:+0000
TZOFFSETTO:+0100
TZNAME:BST
DTSTART:20260329T010000
END:DAYLIGHT
BEGIN:STANDARD
TZOFFSETFROM:+0100
TZOFFSETTO:+0000
TZNAME:GMT
DTSTART:20261025T010000
END:STANDARD
BEGIN:DAYLIGHT
TZOFFSETFROM:+0000
TZOFFSETTO:+0100
TZNAME:BST
DTSTART:20270328T010000
END:DAYLIGHT
BEGIN:STANDARD
TZOFFSETFROM:+0100
TZOFFSETTO:+0000
TZNAME:GMT
DTSTART:20271031T010000
END:STANDARD
END:VTIMEZONE
BEGIN:VEVENT
DTSTART;TZID=Europe/London:20260304T160000
DTEND;TZID=Europe/London:20260304T170000
DTSTAMP:20260421T125933
CREATED:20260213T111537Z
LAST-MODIFIED:20260213T111537Z
UID:990000557-1772640000-1772643600@houseofpmo.com
SUMMARY:Live PMO Panel Discussion: Adapting Project\, Portfolio & Resource Management in Times of Change
DESCRIPTION:Sponsor Hosted Event \nThis event is hosted and delivered by our sponsor partner\, ProSymmetry.\nHouse of PMO is pleased to share this opportunity with our members and the wider PMO community. \nJoin ProSymmetry for a live panel discussion exploring how organisations are adapting project\, portfolio and resource management in times of change. The session brings together industry experts to share practical insights\, real-world experiences and lessons learned. \nWhat Will Be Discussed\nThe live panel conversation will focus on real-world experiences\, not theory\, including: \n\nHow organisations are adjusting portfolios when priorities shift mid-year\nManaging resource capacity when teams are restructured or reduced\nBalancing strategic initiatives with operational realities\nMaking informed trade-offs when demand outpaces available people\nWhat PMOs must rethink as change becomes the norm\, not the exception\n\n\nWho Should Attend\nPMO professionals\, portfolio leaders\, resource managers and anyone involved in PPM looking to support change more effectively. \n\nWho’s on the Panel\nSarah Vincent\nManager\, Analytics & Regional AI Strategy – Honda Canada \nMelissa Fry\nManager of Technology Portfolio Planning – Choice Hotels \nSamantha Varner\nHead of Product Marketing – ProSymmetry \nTogether\, they’ll share practical insights from different industries and organisational models; highlighting what’s working\, what’s changing\, and what leaders should be preparing for next. \nProsymmetry sponsored the latest Inside PMO Report focused on resource management [ you can see that report here ] \nHow to Join the Session\nYou can register directly to join and enjoy the session – the House of PMO will be signing up\, see you there! \nRegister Your Place\n 
URL:https://houseofpmo.com/event/live-pmo-panel-discussion-adapting-project-portfolio-resource-management-in-times-of-change/
CATEGORIES:External,Free,Listen and Learn,Live!
ATTACH;FMTTYPE=image/png:https://houseofpmo.com/wp-content/uploads/2026/02/live-panel-session.png
END:VEVENT
BEGIN:VEVENT
DTSTART;TZID=Europe/London:20251022T180000
DTEND;TZID=Europe/London:20251022T200000
DTSTAMP:20260421T125933
CREATED:20250728T141008Z
LAST-MODIFIED:20251021T092720Z
UID:990000448-1761156000-1761163200@houseofpmo.com
SUMMARY:Redefining the PMO: From Control to Enablement / PMO Flashmob Bristol
DESCRIPTION:Join us for an engaging and thought-provoking session that explores how the PMO is evolving from a traditional centre of control to a modern enabler of business value and agility. Drawing on real-life experiences\, Sam Simpson\, Head of Project Management at Travelodge will share how shifting the PMO mindset\, function and role can unlock greater impact across the organisation. \nWe’ll delve into the cultural and strategic changes needed to stay relevant\, examine the practicalities of building an agile\, value-focused PMO\, and ask: can businesses afford to ignore the agile PMO any longer? \nPerfect for PMO leaders\, PMO analysts and anyone interested in how the PMO is evolving. \nThis is an in-person PMO Flashmob in the centre of Bristol with an opportunity to meet other likeminded PMO professionals. \nNote – the venue has changed\, the session will be now taking place in origin workspace\, 40 Berkeley Square Bristol\, BS8 1HP
URL:https://houseofpmo.com/event/redefining-the-pmo-from-control-to-enablement-pmo-flashmob-bristol/
LOCATION:origin workspace\, 40 Berkeley Square\, Bristol\, BS8 1HP
CATEGORIES:In-Person,PMO Flashmob
ATTACH;FMTTYPE=image/jpeg:https://houseofpmo.com/wp-content/uploads/2025/07/Bristol-PMO-Flashmob.jpg
END:VEVENT
BEGIN:VEVENT
DTSTART;TZID=Europe/London:20250821T160000
DTEND;TZID=Europe/London:20250821T170000
DTSTAMP:20260421T125933
CREATED:20250623T150422Z
LAST-MODIFIED:20250821T154607Z
UID:990000440-1755792000-1755795600@houseofpmo.com
SUMMARY:The Past\, Present and Future of PMO / 2025 PMO Conference Opening Keynote
DESCRIPTION:Missed the PMO Conference in London this year? Here’s your chance to see the opening keynote from Eileen Roden\, Laura Barnard and Americo Pinto! \nTo kick off the 10th anniversary of the PMO Conference in style\, we bring together three of the most influential voices in the PMO space over the past decade: Eileen Roden\, Laura Barnard\, and Americo Pinto.  \nUnited on stage\, these influential leaders will deliver a dynamic keynote that reflects on the evolution of PMO and envisions its bold\, transformative future \nThrough their unique perspectives and shared passion for PMO\, Eileen\, Laura\, and Americo will dive into what they want to see happen\, wish would happen\, and dream might happen for PMO. With a format that blends reflection\, vision\, and inspiration\, this session will set the tone for a day of celebration\, learning\, and forward thinking. \nExpect insights that highlight on the progress made by PMOs over the past decade\, the challenges and opportunities of today\, and the possibilities for tomorrow. From aligning to organisational strategy to leveraging emerging technologies and strengthening PMO leadership\, the conversation will be rich\, relatable\, and packed with takeaways for PMO professionals at every level. \nThis unmissable opening keynote promises to leave you inspired\, energised\, and ready to embrace the next era of PMO. Join us as we set the stage for a day of celebrating the journey so far and charting the course for what’s next. \nRegister to watch the session here or via YouTube on the 21st August! \n 
URL:https://houseofpmo.com/event/the-past-present-and-future-of-pmo-2025-pmo-conference-opening-keynote/
CATEGORIES:Watch Party
ATTACH;FMTTYPE=image/jpeg:https://houseofpmo.com/wp-content/uploads/2025/06/Opening-Keynote.jpeg
LOCATION:
END:VEVENT
END:VCALENDAR