BEGIN:VCALENDAR
VERSION:2.0
PRODID:-//House of PMO - ECPv6.15.17//NONSGML v1.0//EN
CALSCALE:GREGORIAN
METHOD:PUBLISH
X-ORIGINAL-URL:https://houseofpmo.com
X-WR-CALDESC:Events for House of PMO
REFRESH-INTERVAL;VALUE=DURATION:PT1H
X-Robots-Tag:noindex
X-PUBLISHED-TTL:PT1H
BEGIN:VTIMEZONE
TZID:Europe/London
BEGIN:DAYLIGHT
TZOFFSETFROM:+0000
TZOFFSETTO:+0100
TZNAME:BST
DTSTART:20230326T010000
END:DAYLIGHT
BEGIN:STANDARD
TZOFFSETFROM:+0100
TZOFFSETTO:+0000
TZNAME:GMT
DTSTART:20231029T010000
END:STANDARD
BEGIN:DAYLIGHT
TZOFFSETFROM:+0000
TZOFFSETTO:+0100
TZNAME:BST
DTSTART:20240331T010000
END:DAYLIGHT
BEGIN:STANDARD
TZOFFSETFROM:+0100
TZOFFSETTO:+0000
TZNAME:GMT
DTSTART:20241027T010000
END:STANDARD
BEGIN:DAYLIGHT
TZOFFSETFROM:+0000
TZOFFSETTO:+0100
TZNAME:BST
DTSTART:20250330T010000
END:DAYLIGHT
BEGIN:STANDARD
TZOFFSETFROM:+0100
TZOFFSETTO:+0000
TZNAME:GMT
DTSTART:20251026T010000
END:STANDARD
BEGIN:DAYLIGHT
TZOFFSETFROM:+0000
TZOFFSETTO:+0100
TZNAME:BST
DTSTART:20260329T010000
END:DAYLIGHT
BEGIN:STANDARD
TZOFFSETFROM:+0100
TZOFFSETTO:+0000
TZNAME:GMT
DTSTART:20261025T010000
END:STANDARD
BEGIN:DAYLIGHT
TZOFFSETFROM:+0000
TZOFFSETTO:+0100
TZNAME:BST
DTSTART:20270328T010000
END:DAYLIGHT
BEGIN:STANDARD
TZOFFSETFROM:+0100
TZOFFSETTO:+0000
TZNAME:GMT
DTSTART:20271031T010000
END:STANDARD
END:VTIMEZONE
BEGIN:VEVENT
DTSTART;TZID=Europe/London:20260204T120000
DTEND;TZID=Europe/London:20260204T130000
DTSTAMP:20260424T192756
CREATED:20251208T161247Z
LAST-MODIFIED:20251208T161250Z
UID:990000477-1770206400-1770210000@houseofpmo.com
SUMMARY:PMO Career Hour / Job Hunting
DESCRIPTION:PMO Career Hour – the session where we get into the careers of PMO practitioners – this month we’re taking a look at job hunting. \n\n\nThis content isn’t available for your membership level.Join Now\nAlready a member? Log in here
URL:https://houseofpmo.com/event/pmo-career-hour-job-hunting/
CATEGORIES:Member Exclusive
ATTACH;FMTTYPE=image/jpeg:https://houseofpmo.com/wp-content/uploads/2025/12/Career-Hour-PMO.jpeg
LOCATION:https://houseofpmo.com/event/pmo-career-hour-job-hunting/
END:VEVENT
BEGIN:VEVENT
DTSTART;TZID=Europe/London:20240918T120000
DTEND;TZID=Europe/London:20240918T130000
DTSTAMP:20260424T192756
CREATED:20240904T160449Z
LAST-MODIFIED:20240904T161634Z
UID:990000391-1726660800-1726664400@houseofpmo.com
SUMMARY:Watch Party: Securing a Better Paid PMO Job
DESCRIPTION:PMO Career Hour – the session where we get into the careers of PMO practitioners – this month we’re taking a look at job hunting. \n\n\nThis content isn’t available for your membership level.Join Now\nAlready a member? Log in here
URL:https://houseofpmo.com/event/watch-party-securing-a-better-paid-pmo-job/
CATEGORIES:Watch Party
ATTACH;FMTTYPE=image/jpeg:https://houseofpmo.com/wp-content/uploads/2024/09/better-paid-pmo-job.jpg
LOCATION:
END:VEVENT
BEGIN:VEVENT
DTSTART;TZID=Europe/London:20240910T120000
DTEND;TZID=Europe/London:20240910T130000
DTSTAMP:20260424T192756
CREATED:20240808T104047Z
LAST-MODIFIED:20240808T104047Z
UID:990000384-1725969600-1725973200@houseofpmo.com
SUMMARY:PMOs I Have Known
DESCRIPTION:PMO Career Hour – the session where we get into the careers of PMO practitioners – this month we’re taking a look at job hunting. \n\n\nThis content isn’t available for your membership level.Join Now\nAlready a member? Log in here
URL:https://houseofpmo.com/event/pmos-i-have-known/
CATEGORIES:Free,Listen and Learn
ATTACH;FMTTYPE=image/png:https://houseofpmo.com/wp-content/uploads/2024/08/PMOs-IHaveKnown.png
LOCATION:https://houseofpmo.com/event/pmos-i-have-known/
END:VEVENT
END:VCALENDAR