BEGIN:VCALENDAR
VERSION:2.0
PRODID:-//House of PMO - ECPv6.15.17//NONSGML v1.0//EN
CALSCALE:GREGORIAN
METHOD:PUBLISH
X-ORIGINAL-URL:https://houseofpmo.com
X-WR-CALDESC:Events for House of PMO
REFRESH-INTERVAL;VALUE=DURATION:PT1H
X-Robots-Tag:noindex
X-PUBLISHED-TTL:PT1H
BEGIN:VTIMEZONE
TZID:Europe/London
BEGIN:DAYLIGHT
TZOFFSETFROM:+0000
TZOFFSETTO:+0100
TZNAME:BST
DTSTART:20250330T010000
END:DAYLIGHT
BEGIN:STANDARD
TZOFFSETFROM:+0100
TZOFFSETTO:+0000
TZNAME:GMT
DTSTART:20251026T010000
END:STANDARD
BEGIN:DAYLIGHT
TZOFFSETFROM:+0000
TZOFFSETTO:+0100
TZNAME:BST
DTSTART:20260329T010000
END:DAYLIGHT
BEGIN:STANDARD
TZOFFSETFROM:+0100
TZOFFSETTO:+0000
TZNAME:GMT
DTSTART:20261025T010000
END:STANDARD
BEGIN:DAYLIGHT
TZOFFSETFROM:+0000
TZOFFSETTO:+0100
TZNAME:BST
DTSTART:20270328T010000
END:DAYLIGHT
BEGIN:STANDARD
TZOFFSETFROM:+0100
TZOFFSETTO:+0000
TZNAME:GMT
DTSTART:20271031T010000
END:STANDARD
BEGIN:DAYLIGHT
TZOFFSETFROM:+0000
TZOFFSETTO:+0100
TZNAME:BST
DTSTART:20280326T010000
END:DAYLIGHT
BEGIN:STANDARD
TZOFFSETFROM:+0100
TZOFFSETTO:+0000
TZNAME:GMT
DTSTART:20281029T010000
END:STANDARD
END:VTIMEZONE
BEGIN:VEVENT
DTSTART;TZID=Europe/London:20260720T090000
DTEND;TZID=Europe/London:20260724T163000
DTSTAMP:20260422T021846
CREATED:20251021T142218Z
LAST-MODIFIED:20260331T095320Z
UID:990000543-1784538000-1784910600@houseofpmo.com
SUMMARY:House of PMO Essentials for PMO Analysts
DESCRIPTION:Essentials for PMO Analysts is aimed at current PMO Analysts\, PMO Coordinators\, Project Support Officers and those moving from a business operations role into a PMO. This course focuses on the essential competences\, knowledge\, skills and behaviours required to perform the role of a PMO Analyst successfully. \nPre-Requisites: \nA formally recognised Project Management certification at Foundation level is a prerequisite. Completion of internal organisation-led courses is also accepted. \n\nEssentials for PMO Administrators\nA Foundation certificate in either PRAXIS Framework™\, APM PFQ ; PMP®\, PgMP®\, or CAPM AgilePM®\, MSP\, PRINCE2 Agile\, PRINCE2 \, PMQ\, PM4SD™.\nAny other Project Management certificate at a Foundation level (including internal or noncertified courses).\n\n \nLearning Approach: Virtual Classroom \nDuration: 5 days \nVirtual Course Timings: 9am to 4:30pm UK time each day \nPrice: Virtual Classroom – £2575 + VAT (includes exam\, printed course materials and course textbooks) \nHouse of PMO Individual and Corporate Members receive an exclusive discount. Log into your account to receive £250 off. \nCertification Body: APMG International \nRead more about the Essentials for PMO Analysts course – including the full module breakdown.
URL:https://houseofpmo.com/event/house-of-pmo-essentials-for-pmo-analysts-2024july/
CATEGORIES:House of PMO Essentials for PMO Analysts,Training
ATTACH;FMTTYPE=image/png:https://houseofpmo.com/wp-content/uploads/2025/10/Essentials-for-PMO-Analysts-Feature-Image.png
LOCATION:https://houseofpmo.com/event/house-of-pmo-essentials-for-pmo-analysts-2024july/
END:VEVENT
BEGIN:VEVENT
DTSTART;TZID=Europe/London:20261019T090000
DTEND;TZID=Europe/London:20261023T163000
DTSTAMP:20260422T021846
CREATED:20260407T113234Z
LAST-MODIFIED:20260407T113234Z
UID:990000579-1792400400-1792773000@houseofpmo.com
SUMMARY:House of PMO Essentials for PMO Analysts
DESCRIPTION:Essentials for PMO Analysts is aimed at current PMO Analysts\, PMO Coordinators\, Project Support Officers and those moving from a business operations role into a PMO. This course focuses on the essential competences\, knowledge\, skills and behaviours required to perform the role of a PMO Analyst successfully. \nPre-Requisites: \nA formally recognised Project Management certification at Foundation level is a prerequisite. Completion of internal organisation-led courses is also accepted. \n\nEssentials for PMO Administrators\nA Foundation certificate in either PRAXIS Framework™\, APM PFQ ; PMP®\, PgMP®\, or CAPM AgilePM®\, MSP\, PRINCE2 Agile\, PRINCE2 \, PMQ\, PM4SD™.\nAny other Project Management certificate at a Foundation level (including internal or noncertified courses).\n\n \nLearning Approach: Virtual Classroom \nDuration: 5 days \nVirtual Course Timings: 9am to 4:30pm UK time each day \nPrice: Virtual Classroom – £2575 + VAT (includes exam\, printed course materials and course textbooks) \nHouse of PMO Individual and Corporate Members receive an exclusive discount. Log into your account to receive £250 off. \nCertification Body: APMG International \nRead more about the Essentials for PMO Analysts course – including the full module breakdown.
URL:https://houseofpmo.com/event/house-of-pmo-essentials-for-pmo-analysts-19oct/
CATEGORIES:House of PMO Essentials for PMO Analysts,Training
ATTACH;FMTTYPE=image/png:https://houseofpmo.com/wp-content/uploads/2025/10/Essentials-for-PMO-Analysts-Feature-Image.png
LOCATION:https://houseofpmo.com/event/house-of-pmo-essentials-for-pmo-analysts-19oct/
END:VEVENT
BEGIN:VEVENT
DTSTART;TZID=Europe/London:20270125T090000
DTEND;TZID=Europe/London:20270129T163000
DTSTAMP:20260422T021846
CREATED:20260407T114035Z
LAST-MODIFIED:20260407T114035Z
UID:990000580-1800867600-1801240200@houseofpmo.com
SUMMARY:House of PMO Essentials for PMO Analysts
DESCRIPTION:Essentials for PMO Analysts is aimed at current PMO Analysts\, PMO Coordinators\, Project Support Officers and those moving from a business operations role into a PMO. This course focuses on the essential competences\, knowledge\, skills and behaviours required to perform the role of a PMO Analyst successfully. \nPre-Requisites: \nA formally recognised Project Management certification at Foundation level is a prerequisite. Completion of internal organisation-led courses is also accepted. \n\nEssentials for PMO Administrators\nA Foundation certificate in either PRAXIS Framework™\, APM PFQ ; PMP®\, PgMP®\, or CAPM AgilePM®\, MSP\, PRINCE2 Agile\, PRINCE2 \, PMQ\, PM4SD™.\nAny other Project Management certificate at a Foundation level (including internal or noncertified courses).\n\n \nLearning Approach: Virtual Classroom \nDuration: 5 days \nVirtual Course Timings: 9am to 4:30pm UK time each day \nPrice: Virtual Classroom – £2575 + VAT (includes exam\, printed course materials and course textbooks) \nHouse of PMO Individual and Corporate Members receive an exclusive discount. Log into your account to receive £250 off. \nCertification Body: APMG International \nRead more about the Essentials for PMO Analysts course – including the full module breakdown.
URL:https://houseofpmo.com/event/house-of-pmo-essentials-for-pmo-analysts/
CATEGORIES:House of PMO Essentials for PMO Analysts,Training
ATTACH;FMTTYPE=image/png:https://houseofpmo.com/wp-content/uploads/2025/10/Essentials-for-PMO-Analysts-Feature-Image.png
LOCATION:https://houseofpmo.com/event/house-of-pmo-essentials-for-pmo-analysts/
END:VEVENT
BEGIN:VEVENT
DTSTART;TZID=Europe/London:20270315T090000
DTEND;TZID=Europe/London:20270319T163000
DTSTAMP:20260422T021846
CREATED:20260407T114550Z
LAST-MODIFIED:20260407T114550Z
UID:990000581-1805101200-1805473800@houseofpmo.com
SUMMARY:House of PMO Essentials for PMO Analysts
DESCRIPTION:Essentials for PMO Analysts is aimed at current PMO Analysts\, PMO Coordinators\, Project Support Officers and those moving from a business operations role into a PMO. This course focuses on the essential competences\, knowledge\, skills and behaviours required to perform the role of a PMO Analyst successfully. \nPre-Requisites: \nA formally recognised Project Management certification at Foundation level is a prerequisite. Completion of internal organisation-led courses is also accepted. \n\nEssentials for PMO Administrators\nA Foundation certificate in either PRAXIS Framework™\, APM PFQ ; PMP®\, PgMP®\, or CAPM AgilePM®\, MSP\, PRINCE2 Agile\, PRINCE2 \, PMQ\, PM4SD™.\nAny other Project Management certificate at a Foundation level (including internal or noncertified courses).\n\n \nLearning Approach: Virtual Classroom \nDuration: 5 days \nVirtual Course Timings: 9am to 4:30pm UK time each day \nPrice: Virtual Classroom – £2575 + VAT (includes exam\, printed course materials and course textbooks) \nHouse of PMO Individual and Corporate Members receive an exclusive discount. Log into your account to receive £250 off. \nCertification Body: APMG International \nRead more about the Essentials for PMO Analysts course – including the full module breakdown.
URL:https://houseofpmo.com/event/house-of-pmo-essentials-for-pmo-analysts-15march/
CATEGORIES:House of PMO Essentials for PMO Analysts,Training
ATTACH;FMTTYPE=image/png:https://houseofpmo.com/wp-content/uploads/2025/10/Essentials-for-PMO-Analysts-Feature-Image.png
LOCATION:https://houseofpmo.com/event/house-of-pmo-essentials-for-pmo-analysts-15march/
END:VEVENT
END:VCALENDAR