BEGIN:VCALENDAR
VERSION:2.0
PRODID:-//House of PMO - ECPv6.15.17//NONSGML v1.0//EN
CALSCALE:GREGORIAN
METHOD:PUBLISH
X-WR-CALNAME:House of PMO
X-ORIGINAL-URL:https://houseofpmo.com
X-WR-CALDESC:Events for House of PMO
REFRESH-INTERVAL;VALUE=DURATION:PT1H
X-Robots-Tag:noindex
X-PUBLISHED-TTL:PT1H
BEGIN:VTIMEZONE
TZID:Europe/London
BEGIN:DAYLIGHT
TZOFFSETFROM:+0000
TZOFFSETTO:+0100
TZNAME:BST
DTSTART:20240331T010000
END:DAYLIGHT
BEGIN:STANDARD
TZOFFSETFROM:+0100
TZOFFSETTO:+0000
TZNAME:GMT
DTSTART:20241027T010000
END:STANDARD
BEGIN:DAYLIGHT
TZOFFSETFROM:+0000
TZOFFSETTO:+0100
TZNAME:BST
DTSTART:20250330T010000
END:DAYLIGHT
BEGIN:STANDARD
TZOFFSETFROM:+0100
TZOFFSETTO:+0000
TZNAME:GMT
DTSTART:20251026T010000
END:STANDARD
BEGIN:DAYLIGHT
TZOFFSETFROM:+0000
TZOFFSETTO:+0100
TZNAME:BST
DTSTART:20260329T010000
END:DAYLIGHT
BEGIN:STANDARD
TZOFFSETFROM:+0100
TZOFFSETTO:+0000
TZNAME:GMT
DTSTART:20261025T010000
END:STANDARD
END:VTIMEZONE
BEGIN:VEVENT
DTSTART;TZID=Europe/London:20251208T080000
DTEND;TZID=Europe/London:20251208T173000
DTSTAMP:20260424T033245
CREATED:20250929T124328Z
LAST-MODIFIED:20250929T124328Z
UID:990000464-1765180800-1765215000@houseofpmo.com
SUMMARY:Mega Projects Conference (Virtual)
DESCRIPTION:Breaking the Iron Law: Megaprojects Conference \nPMOs are increasingly involved in supporting complex\, large-scale programmes and portfolios – from infrastructure and transformation initiatives to capital-intensive projects. This conference explores how project professionals can reframe what’s possible in capital-intensive\, complex\, and megaproject delivery and help break the so-called “Iron Law of Megaprojects” – projects that run over budget\, over time\, and under deliver\, again and again. \nHosted by P3GQA\, this multi-day event brings together global experts and practitioners to share frameworks\, insights\, and real-world cases on how to deliver better outcomes in megaprojects. \nKeynote Day – 8 December\nThe centrepiece of the conference\, Keynote Day brings together some of the most influential figures shaping the future of megaproject delivery. \n\nProfessor Bent Flyvbjerg – the originator of the “Iron Law of Megaprojects” and the most cited scholar in the field. He will share the latest research and practical heuristics for breaking the cycle of failure in capital-intensive projects.\nBecky Wood – newly appointed CEO of the UK’s National Infrastructure and Service Transformation Authority (NISTA). She brings deep experience from major government projects and will speak about the future of national infrastructure delivery and the role of collaboration.\nAntonio Nieto-Rodríguez – leading voice on the Project Economy\, HBR author\, and former PMI Chair. He will share insights on how organisations can thrive in the transformation age by prioritising and leading strategic initiatives.\n\n\nAlongside these headline speakers\, the day features contributions from senior figures across industry and academia\, including PMI Fellows\, authors\, and advisers who have defined many of the standards and practices used in project management today. \nFor PMOs\, this is an opportunity to: \n\nUnderstand the systemic challenges that lead to overruns and under-delivery in megaprojects.\nLearn from both research and real-world examples of governance\, sponsorship\, and benefits management done well.\nHear from thought leaders who are shaping the future of project delivery at national and global scale.\n\n  \nHouse of PMO’s Eileen Roden provides the closing keynote session of the day with ePMO Services for Capital Portfolios. See the full agenda. \nThe House of PMO community can purchase their seat at the conference: \nBook Your Place\n 
URL:https://houseofpmo.com/event/mega-projects-conference-virtual/
CATEGORIES:External
ATTACH;FMTTYPE=image/png:https://houseofpmo.com/wp-content/uploads/2025/09/mega-project-conference.png
END:VEVENT
END:VCALENDAR