BEGIN:VCALENDAR
VERSION:2.0
PRODID:-//House of PMO - ECPv6.15.17//NONSGML v1.0//EN
CALSCALE:GREGORIAN
METHOD:PUBLISH
X-WR-CALNAME:House of PMO
X-ORIGINAL-URL:https://houseofpmo.com
X-WR-CALDESC:Events for House of PMO
REFRESH-INTERVAL;VALUE=DURATION:PT1H
X-Robots-Tag:noindex
X-PUBLISHED-TTL:PT1H
BEGIN:VTIMEZONE
TZID:Europe/London
BEGIN:DAYLIGHT
TZOFFSETFROM:+0000
TZOFFSETTO:+0100
TZNAME:BST
DTSTART:20240331T010000
END:DAYLIGHT
BEGIN:STANDARD
TZOFFSETFROM:+0100
TZOFFSETTO:+0000
TZNAME:GMT
DTSTART:20241027T010000
END:STANDARD
BEGIN:DAYLIGHT
TZOFFSETFROM:+0000
TZOFFSETTO:+0100
TZNAME:BST
DTSTART:20250330T010000
END:DAYLIGHT
BEGIN:STANDARD
TZOFFSETFROM:+0100
TZOFFSETTO:+0000
TZNAME:GMT
DTSTART:20251026T010000
END:STANDARD
BEGIN:DAYLIGHT
TZOFFSETFROM:+0000
TZOFFSETTO:+0100
TZNAME:BST
DTSTART:20260329T010000
END:DAYLIGHT
BEGIN:STANDARD
TZOFFSETFROM:+0100
TZOFFSETTO:+0000
TZNAME:GMT
DTSTART:20261025T010000
END:STANDARD
END:VTIMEZONE
BEGIN:VEVENT
DTSTART;TZID=Europe/London:20250715T120000
DTEND;TZID=Europe/London:20250715T130000
DTSTAMP:20260424T105434
CREATED:20250609T133830Z
LAST-MODIFIED:20250609T161137Z
UID:990000437-1752580800-1752584400@houseofpmo.com
SUMMARY:Present with Confidence – PMO Summer Series / Session One
DESCRIPTION:What does a Programme Office really do? Explore its purpose\, services\, roles and value in this practical PMO session. Ideal for PMO professionals working at programme level. \n\n\nThis content isn’t available for your membership level.Join Now\nAlready a member? Log in here
URL:https://houseofpmo.com/event/present-with-confidence-pmo-summer-series-session-one/
CATEGORIES:Super Series
ATTACH;FMTTYPE=image/jpeg:https://houseofpmo.com/wp-content/uploads/2025/06/Present-Confidence-PMO-15-july-4.jpeg
LOCATION:https://houseofpmo.com/event/present-with-confidence-pmo-summer-series-session-one/
END:VEVENT
BEGIN:VEVENT
DTSTART;TZID=Europe/London:20250716T180000
DTEND;TZID=Europe/London:20250716T200000
DTSTAMP:20260424T105434
CREATED:20250701T112659Z
LAST-MODIFIED:20250701T140055Z
UID:990000442-1752688800-1752696000@houseofpmo.com
SUMMARY:PMO Flashmob Summer Social: PMO Survival Hacks
DESCRIPTION:What does a Programme Office really do? Explore its purpose\, services\, roles and value in this practical PMO session. Ideal for PMO professionals working at programme level. \n\n\nThis content isn’t available for your membership level.Join Now\nAlready a member? Log in here
URL:https://houseofpmo.com/event/pmo-flashmob-summer-social-pmo-survival-hacks/
LOCATION:Mercato Metropolitano\, 42 Newington Causeway\, London\, SE1 6DR\, United Kingdom
CATEGORIES:Networking and Social,Social
ATTACH;FMTTYPE=image/png:https://houseofpmo.com/wp-content/uploads/2025/07/summer-social-pmof1.png
END:VEVENT
BEGIN:VEVENT
DTSTART;TZID=Europe/London:20250723T120000
DTEND;TZID=Europe/London:20250723T130000
DTSTAMP:20260424T105434
CREATED:20250609T135437Z
LAST-MODIFIED:20250609T162411Z
UID:990000435-1753272000-1753275600@houseofpmo.com
SUMMARY:Present with Confidence – PMO Summer Series / Session Two
DESCRIPTION:What does a Programme Office really do? Explore its purpose\, services\, roles and value in this practical PMO session. Ideal for PMO professionals working at programme level. \n\n\nThis content isn’t available for your membership level.Join Now\nAlready a member? Log in here
URL:https://houseofpmo.com/event/present-with-confidence-pmo-summer-series-session-two/
CATEGORIES:Super Series
ATTACH;FMTTYPE=image/jpeg:https://houseofpmo.com/wp-content/uploads/2025/05/Present-Confidence-PMO-23-july-3.jpeg
LOCATION:https://houseofpmo.com/event/present-with-confidence-pmo-summer-series-session-two/
END:VEVENT
BEGIN:VEVENT
DTSTART;TZID=Europe/London:20250725T121500
DTEND;TZID=Europe/London:20250725T130000
DTSTAMP:20260424T105434
CREATED:20250527T140139Z
LAST-MODIFIED:20250527T140318Z
UID:990000430-1753445700-1753448400@houseofpmo.com
SUMMARY:PMO HotHouse Season 3 – July 2025
DESCRIPTION:What does a Programme Office really do? Explore its purpose\, services\, roles and value in this practical PMO session. Ideal for PMO professionals working at programme level. \n\n\nThis content isn’t available for your membership level.Join Now\nAlready a member? Log in here
URL:https://houseofpmo.com/event/pmo-hothouse-season-news-july-2025/
CATEGORIES:Monthly
ATTACH;FMTTYPE=image/jpeg:https://houseofpmo.com/wp-content/uploads/2025/05/July-HotHouse-.jpeg
LOCATION:https://houseofpmo.com/event/pmo-hothouse-season-news-july-2025/
END:VEVENT
BEGIN:VEVENT
DTSTART;TZID=Europe/London:20250806T120000
DTEND;TZID=Europe/London:20250806T130000
DTSTAMP:20260424T105434
CREATED:20250527T163920Z
LAST-MODIFIED:20250529T125403Z
UID:990000432-1754481600-1754485200@houseofpmo.com
SUMMARY:PMO Skills: Think Creatively
DESCRIPTION:What does a Programme Office really do? Explore its purpose\, services\, roles and value in this practical PMO session. Ideal for PMO professionals working at programme level. \n\n\nThis content isn’t available for your membership level.Join Now\nAlready a member? Log in here
URL:https://houseofpmo.com/event/pmo-skills-think-creatively/
CATEGORIES:Explore,Member Exclusive
ATTACH;FMTTYPE=image/jpeg:https://houseofpmo.com/wp-content/uploads/2025/05/Think-Creatively-pmo.jpeg
LOCATION:https://houseofpmo.com/event/pmo-skills-think-creatively/
END:VEVENT
BEGIN:VEVENT
DTSTART;TZID=Europe/London:20250807T060000
DTEND;TZID=Europe/London:20250807T080000
DTSTAMP:20260424T105434
CREATED:20250721T165205Z
LAST-MODIFIED:20250721T165205Z
UID:990000446-1754546400-1754553600@houseofpmo.com
SUMMARY:Unlocking PMO Potential: Introducing the PMO Competency Framework
DESCRIPTION:What does a Programme Office really do? Explore its purpose\, services\, roles and value in this practical PMO session. Ideal for PMO professionals working at programme level. \n\n\nThis content isn’t available for your membership level.Join Now\nAlready a member? Log in here
URL:https://houseofpmo.com/event/unlocking-pmo-potential-introducing-the-pmo-competency-framework/
LOCATION:AUT School of Future Environments\, Tukutuku\, AZ100\, North Campus\, AUT\,90 Akoranga Drive\, Northcote\,\, Auckland\, 0627\, New Zealand
CATEGORIES:External
ATTACH;FMTTYPE=image/png:https://houseofpmo.com/wp-content/uploads/2025/07/Auckland-PMO-PMI.png
END:VEVENT
BEGIN:VEVENT
DTSTART;TZID=Europe/London:20250813T120000
DTEND;TZID=Europe/London:20250813T130000
DTSTAMP:20260424T105434
CREATED:20250609T141935Z
LAST-MODIFIED:20250609T161918Z
UID:990000438-1755086400-1755090000@houseofpmo.com
SUMMARY:Present with Confidence – PMO Summer Series / Session Three
DESCRIPTION:What does a Programme Office really do? Explore its purpose\, services\, roles and value in this practical PMO session. Ideal for PMO professionals working at programme level. \n\n\nThis content isn’t available for your membership level.Join Now\nAlready a member? Log in here
URL:https://houseofpmo.com/event/present-with-confidence-pmo-summer-series-session-three/
CATEGORIES:Super Series
ATTACH;FMTTYPE=image/jpeg:https://houseofpmo.com/wp-content/uploads/2025/05/Present-Confidence-PMO-13-Aug-2.jpeg
LOCATION:https://houseofpmo.com/event/present-with-confidence-pmo-summer-series-session-three/
END:VEVENT
BEGIN:VEVENT
DTSTART;TZID=Europe/London:20250820T150000
DTEND;TZID=Europe/London:20250820T153000
DTSTAMP:20260424T105434
CREATED:20250703T104452Z
LAST-MODIFIED:20250703T104452Z
UID:990000445-1755702000-1755703800@houseofpmo.com
SUMMARY:How House of PMO Members Make PMO Work
DESCRIPTION:What does a Programme Office really do? Explore its purpose\, services\, roles and value in this practical PMO session. Ideal for PMO professionals working at programme level. \n\n\nThis content isn’t available for your membership level.Join Now\nAlready a member? Log in here
URL:https://houseofpmo.com/event/how-house-of-pmo-members-make-pmo-work/
CATEGORIES:Free
ATTACH;FMTTYPE=image/jpeg:https://houseofpmo.com/wp-content/uploads/2025/07/House-of-PMO-Membership.jpeg
LOCATION:https://houseofpmo.com/event/how-house-of-pmo-members-make-pmo-work/
END:VEVENT
BEGIN:VEVENT
DTSTART;TZID=Europe/London:20250821T160000
DTEND;TZID=Europe/London:20250821T170000
DTSTAMP:20260424T105434
CREATED:20250623T150422Z
LAST-MODIFIED:20250821T154607Z
UID:990000440-1755792000-1755795600@houseofpmo.com
SUMMARY:The Past\, Present and Future of PMO / 2025 PMO Conference Opening Keynote
DESCRIPTION:What does a Programme Office really do? Explore its purpose\, services\, roles and value in this practical PMO session. Ideal for PMO professionals working at programme level. \n\n\nThis content isn’t available for your membership level.Join Now\nAlready a member? Log in here
URL:https://houseofpmo.com/event/the-past-present-and-future-of-pmo-2025-pmo-conference-opening-keynote/
CATEGORIES:Watch Party
ATTACH;FMTTYPE=image/jpeg:https://houseofpmo.com/wp-content/uploads/2025/06/Opening-Keynote.jpeg
LOCATION:
END:VEVENT
BEGIN:VEVENT
DTSTART;TZID=Europe/London:20250828T150000
DTEND;TZID=Europe/London:20250828T190000
DTSTAMP:20260424T105434
CREATED:20250701T155224Z
LAST-MODIFIED:20250701T155224Z
UID:990000444-1756393200-1756407600@houseofpmo.com
SUMMARY:Shaping Change: PMO Models and Campus Transformation
DESCRIPTION:What does a Programme Office really do? Explore its purpose\, services\, roles and value in this practical PMO session. Ideal for PMO professionals working at programme level. \n\n\nThis content isn’t available for your membership level.Join Now\nAlready a member? Log in here
URL:https://houseofpmo.com/event/shaping-change-pmo-models-and-campus-transformation/
LOCATION:University of Glasgow\, University Avenue\, Glasgow\, G12 8QQ\, United Kingdom
CATEGORIES:In-Person,Network and Learn
ATTACH;FMTTYPE=image/jpeg:https://houseofpmo.com/wp-content/uploads/2025/07/glasgow-university.jpeg
END:VEVENT
BEGIN:VEVENT
DTSTART;TZID=Europe/London:20250829T121500
DTEND;TZID=Europe/London:20250829T130000
DTSTAMP:20260424T105434
CREATED:20250527T154840Z
LAST-MODIFIED:20250527T155234Z
UID:990000431-1756469700-1756472400@houseofpmo.com
SUMMARY:PMO HotHouse Season 3 – August 2025
DESCRIPTION:What does a Programme Office really do? Explore its purpose\, services\, roles and value in this practical PMO session. Ideal for PMO professionals working at programme level. \n\n\nThis content isn’t available for your membership level.Join Now\nAlready a member? Log in here
URL:https://houseofpmo.com/event/pmo-hothouse-season-3-august-2025/
CATEGORIES:Monthly
ATTACH;FMTTYPE=image/jpeg:https://houseofpmo.com/wp-content/uploads/2025/05/aug-HotHouse-.jpeg
LOCATION:https://houseofpmo.com/event/pmo-hothouse-season-3-august-2025/
END:VEVENT
BEGIN:VEVENT
DTSTART;TZID=Europe/London:20250905T120000
DTEND;TZID=Europe/London:20250905T130000
DTSTAMP:20260424T105434
CREATED:20250819T160903Z
LAST-MODIFIED:20250819T161006Z
UID:990000455-1757073600-1757077200@houseofpmo.com
SUMMARY:PMO Networking Skills
DESCRIPTION:What does a Programme Office really do? Explore its purpose\, services\, roles and value in this practical PMO session. Ideal for PMO professionals working at programme level. \n\n\nThis content isn’t available for your membership level.Join Now\nAlready a member? Log in here
URL:https://houseofpmo.com/event/pmo-networking-skills/
CATEGORIES:Listen and Learn
ATTACH;FMTTYPE=image/jpeg:https://houseofpmo.com/wp-content/uploads/2025/08/PMO-Networking-Skills.jpeg
LOCATION:https://houseofpmo.com/event/pmo-networking-skills/
END:VEVENT
BEGIN:VEVENT
DTSTART;TZID=Europe/London:20250909T120000
DTEND;TZID=Europe/London:20250909T130000
DTSTAMP:20260424T105434
CREATED:20250806T153217Z
LAST-MODIFIED:20250806T153651Z
UID:990000450-1757419200-1757422800@houseofpmo.com
SUMMARY:Making Resource Management Work / Insight PMO Report
DESCRIPTION:What does a Programme Office really do? Explore its purpose\, services\, roles and value in this practical PMO session. Ideal for PMO professionals working at programme level. \n\n\nThis content isn’t available for your membership level.Join Now\nAlready a member? Log in here
URL:https://houseofpmo.com/event/making-resource-management-work-insight-pmo-report/
CATEGORIES:Free,Listen and Learn
ATTACH;FMTTYPE=image/jpeg:https://houseofpmo.com/wp-content/uploads/2025/08/Inside-Resource-Management-1.jpeg
LOCATION:https://houseofpmo.com/event/making-resource-management-work-insight-pmo-report/
END:VEVENT
BEGIN:VEVENT
DTSTART;TZID=Europe/London:20250917T120000
DTEND;TZID=Europe/London:20250917T130000
DTSTAMP:20260424T105434
CREATED:20250701T143749Z
LAST-MODIFIED:20250701T143749Z
UID:990000443-1758110400-1758114000@houseofpmo.com
SUMMARY:PMO Tech in Action: Citizen Development at Strathclyde University
DESCRIPTION:What does a Programme Office really do? Explore its purpose\, services\, roles and value in this practical PMO session. Ideal for PMO professionals working at programme level. \n\n\nThis content isn’t available for your membership level.Join Now\nAlready a member? Log in here
URL:https://houseofpmo.com/event/pmo-tech-in-action-citizen-development-at-strathclyde-university/
CATEGORIES:Listen and Learn
ATTACH;FMTTYPE=image/jpeg:https://houseofpmo.com/wp-content/uploads/2025/07/citizen-development.jpeg
LOCATION:https://houseofpmo.com/event/pmo-tech-in-action-citizen-development-at-strathclyde-university/
END:VEVENT
BEGIN:VEVENT
DTSTART;TZID=Europe/London:20250918T173000
DTEND;TZID=Europe/London:20250918T200000
DTSTAMP:20260424T105434
CREATED:20250728T172925Z
LAST-MODIFIED:20250911T113220Z
UID:990000449-1758216600-1758225600@houseofpmo.com
SUMMARY:Elevating PMO Outcomes & Value with What You Have / Edinburgh PMO Flashmob
DESCRIPTION:What does a Programme Office really do? Explore its purpose\, services\, roles and value in this practical PMO session. Ideal for PMO professionals working at programme level. \n\n\nThis content isn’t available for your membership level.Join Now\nAlready a member? Log in here
URL:https://houseofpmo.com/event/pmo-flashmob-edinburgh-save-the-date/
LOCATION:University of Edinburgh\, Edinburgh Future's Institute\, Edinburgh\, EH3 9EF\, United Kingdom
CATEGORIES:In-Person,PMO Flashmob
ATTACH;FMTTYPE=image/png:https://houseofpmo.com/wp-content/uploads/2025/07/Edinburgh-PMOFlashmob-Sept2025.png
END:VEVENT
BEGIN:VEVENT
DTSTART;TZID=Europe/London:20250924T180000
DTEND;TZID=Europe/London:20250924T200000
DTSTAMP:20260424T105434
CREATED:20250722T152808Z
LAST-MODIFIED:20250909T162447Z
UID:990000447-1758736800-1758744000@houseofpmo.com
SUMMARY:Top Ten Pitfalls to Avoid in Benefits Management / South Coast PMO Flashmob
DESCRIPTION:What does a Programme Office really do? Explore its purpose\, services\, roles and value in this practical PMO session. Ideal for PMO professionals working at programme level. \n\n\nThis content isn’t available for your membership level.Join Now\nAlready a member? Log in here
URL:https://houseofpmo.com/event/top-ten-pitfalls-to-avoid-in-benefits-management-south-coast-pmo-flashmob/
LOCATION:Ageas Insurance\, Ageas House\, Hampshire Corporate Park\, Templars Way\, Eastleigh\, SO53 3YA
CATEGORIES:In-Person,Network and Learn
ATTACH;FMTTYPE=image/jpeg:https://houseofpmo.com/wp-content/uploads/2025/07/benefits-management-pitfalls.jpeg
END:VEVENT
BEGIN:VEVENT
DTSTART;TZID=Europe/London:20250925T173000
DTEND;TZID=Europe/London:20250925T210000
DTSTAMP:20260424T105434
CREATED:20250908T112939Z
LAST-MODIFIED:20250909T083853Z
UID:990000461-1758821400-1758834000@houseofpmo.com
SUMMARY:The Crown & Anchor Principle – PMO Flashmob / London
DESCRIPTION:What does a Programme Office really do? Explore its purpose\, services\, roles and value in this practical PMO session. Ideal for PMO professionals working at programme level. \n\n\nThis content isn’t available for your membership level.Join Now\nAlready a member? Log in here
URL:https://houseofpmo.com/event/the-crown-anchor-principle-pmo-flashmob-london/
LOCATION:Crown and Anchor\, 137 Drummond Street\, London\, London\, NW1 2HL\, United Kingdom
CATEGORIES:In-Person
ATTACH;FMTTYPE=image/jpeg:https://houseofpmo.com/wp-content/uploads/2025/09/PMO-Crown-and-Anchor.jpeg
END:VEVENT
BEGIN:VEVENT
DTSTART;TZID=Europe/London:20250926T121500
DTEND;TZID=Europe/London:20250926T130000
DTSTAMP:20260424T105434
CREATED:20250528T083527Z
LAST-MODIFIED:20250528T083720Z
UID:990000433-1758888900-1758891600@houseofpmo.com
SUMMARY:PMO HotHouse Season 3 – September 2025
DESCRIPTION:What does a Programme Office really do? Explore its purpose\, services\, roles and value in this practical PMO session. Ideal for PMO professionals working at programme level. \n\n\nThis content isn’t available for your membership level.Join Now\nAlready a member? Log in here
URL:https://houseofpmo.com/event/pmo-hothouse-season-3-september-2025/
CATEGORIES:Monthly
ATTACH;FMTTYPE=image/png:https://houseofpmo.com/wp-content/uploads/2025/05/sept-pmo-hothouse.png
LOCATION:https://houseofpmo.com/event/pmo-hothouse-season-3-september-2025/
END:VEVENT
BEGIN:VEVENT
DTSTART;TZID=Europe/London:20251001T120000
DTEND;TZID=Europe/London:20251001T130000
DTSTAMP:20260424T105434
CREATED:20250902T160029Z
LAST-MODIFIED:20250902T160059Z
UID:990000460-1759320000-1759323600@houseofpmo.com
SUMMARY:PMO Development Plans and CPD
DESCRIPTION:What does a Programme Office really do? Explore its purpose\, services\, roles and value in this practical PMO session. Ideal for PMO professionals working at programme level. \n\n\nThis content isn’t available for your membership level.Join Now\nAlready a member? Log in here
URL:https://houseofpmo.com/event/pmo-development-plans-and-cpd/
CATEGORIES:Listen and Learn
ATTACH;FMTTYPE=image/jpeg:https://houseofpmo.com/wp-content/uploads/2025/09/PMO-Development-Plans.jpeg
LOCATION:https://houseofpmo.com/event/pmo-development-plans-and-cpd/
END:VEVENT
BEGIN:VEVENT
DTSTART;VALUE=DATE:20251002
DTEND;VALUE=DATE:20251005
DTSTAMP:20260424T105434
CREATED:20250814T140535Z
LAST-MODIFIED:20250814T140535Z
UID:990000454-1759392000-1759564799@houseofpmo.com
SUMMARY:PMI PMO unCON
DESCRIPTION:What does a Programme Office really do? Explore its purpose\, services\, roles and value in this practical PMO session. Ideal for PMO professionals working at programme level. \n\n\nThis content isn’t available for your membership level.Join Now\nAlready a member? Log in here
URL:https://houseofpmo.com/event/pmi-pmo-uncon/
ATTACH;FMTTYPE=image/png:https://houseofpmo.com/wp-content/uploads/2025/08/PMO_unCON_Icon.png
END:VEVENT
BEGIN:VEVENT
DTSTART;TZID=Europe/London:20251009T180000
DTEND;TZID=Europe/London:20251009T200000
DTSTAMP:20260424T105434
CREATED:20250826T113825Z
LAST-MODIFIED:20251003T093150Z
UID:990000456-1760032800-1760040000@houseofpmo.com
SUMMARY:Making Change Stick: How PMO Helps Drive Real Results
DESCRIPTION:What does a Programme Office really do? Explore its purpose\, services\, roles and value in this practical PMO session. Ideal for PMO professionals working at programme level. \n\n\nThis content isn’t available for your membership level.Join Now\nAlready a member? Log in here
URL:https://houseofpmo.com/event/making-change-stick-how-pmo-helps-drive-real-results/
LOCATION:Gravitas Recruitment Group\, Two St Peter’s Square\,\, Manchester\, M2 3AA\, United Kingdom
CATEGORIES:In-Person,Network and Learn,PMO Flashmob
ATTACH;FMTTYPE=image/jpeg:https://houseofpmo.com/wp-content/uploads/2025/08/Change-stick.jpeg
END:VEVENT
BEGIN:VEVENT
DTSTART;TZID=Europe/London:20251015T130000
DTEND;TZID=Europe/London:20251015T140000
DTSTAMP:20260424T105434
CREATED:20250910T141920Z
LAST-MODIFIED:20250912T105126Z
UID:990000462-1760533200-1760536800@houseofpmo.com
SUMMARY:AI PMO / Effective Use of AI Tools – 101 Introductory
DESCRIPTION:What does a Programme Office really do? Explore its purpose\, services\, roles and value in this practical PMO session. Ideal for PMO professionals working at programme level. \n\n\nThis content isn’t available for your membership level.Join Now\nAlready a member? Log in here
URL:https://houseofpmo.com/event/ai-pmo-effective-use-of-ai-tools-101-introductory/
CATEGORIES:Listen and Learn,Super Series
ATTACH;FMTTYPE=image/jpeg:https://houseofpmo.com/wp-content/uploads/2025/09/AI-PMO-101.jpeg
LOCATION:https://houseofpmo.com/event/ai-pmo-effective-use-of-ai-tools-101-introductory/
END:VEVENT
BEGIN:VEVENT
DTSTART;TZID=Europe/London:20251020T150000
DTEND;TZID=Europe/London:20251020T160000
DTSTAMP:20260424T105434
CREATED:20250910T143137Z
LAST-MODIFIED:20250912T105144Z
UID:990000463-1760972400-1760976000@houseofpmo.com
SUMMARY:AI PMO / Effective Use of AI Tools – 102 Intermediate
DESCRIPTION:What does a Programme Office really do? Explore its purpose\, services\, roles and value in this practical PMO session. Ideal for PMO professionals working at programme level. \n\n\nThis content isn’t available for your membership level.Join Now\nAlready a member? Log in here
URL:https://houseofpmo.com/event/ai-pmo-effective-use-of-ai-tools-102-intermediate/
CATEGORIES:Listen and Learn,Super Series
ATTACH;FMTTYPE=image/jpeg:https://houseofpmo.com/wp-content/uploads/2025/09/AI-PMO-102-2.jpeg
LOCATION:https://houseofpmo.com/event/ai-pmo-effective-use-of-ai-tools-102-intermediate/
END:VEVENT
BEGIN:VEVENT
DTSTART;TZID=Europe/London:20251021T080000
DTEND;TZID=Europe/London:20251022T170000
DTSTAMP:20260424T105434
CREATED:20250811T125538Z
LAST-MODIFIED:20250811T125538Z
UID:990000452-1761033600-1761152400@houseofpmo.com
SUMMARY:Project:Hack26
DESCRIPTION:What does a Programme Office really do? Explore its purpose\, services\, roles and value in this practical PMO session. Ideal for PMO professionals working at programme level. \n\n\nThis content isn’t available for your membership level.Join Now\nAlready a member? Log in here
URL:https://houseofpmo.com/event/projecthack26/
LOCATION:Crowne Plaza\, London Gatwick\, Langley Dr\, Crawley\, RH11 7SX\, United Kingdom
CATEGORIES:External
ATTACH;FMTTYPE=image/png:https://houseofpmo.com/wp-content/uploads/2025/08/projecthack-oct2025.png
END:VEVENT
BEGIN:VEVENT
DTSTART;TZID=Europe/London:20251022T180000
DTEND;TZID=Europe/London:20251022T200000
DTSTAMP:20260424T105434
CREATED:20250728T141008Z
LAST-MODIFIED:20251021T092720Z
UID:990000448-1761156000-1761163200@houseofpmo.com
SUMMARY:Redefining the PMO: From Control to Enablement / PMO Flashmob Bristol
DESCRIPTION:What does a Programme Office really do? Explore its purpose\, services\, roles and value in this practical PMO session. Ideal for PMO professionals working at programme level. \n\n\nThis content isn’t available for your membership level.Join Now\nAlready a member? Log in here
URL:https://houseofpmo.com/event/redefining-the-pmo-from-control-to-enablement-pmo-flashmob-bristol/
LOCATION:origin workspace\, 40 Berkeley Square\, Bristol\, BS8 1HP
CATEGORIES:In-Person,PMO Flashmob
ATTACH;FMTTYPE=image/jpeg:https://houseofpmo.com/wp-content/uploads/2025/07/Bristol-PMO-Flashmob.jpg
END:VEVENT
BEGIN:VEVENT
DTSTART;TZID=Europe/London:20251031T121500
DTEND;TZID=Europe/London:20251031T130000
DTSTAMP:20260424T105434
CREATED:20250528T084332Z
LAST-MODIFIED:20250528T084332Z
UID:990000434-1761912900-1761915600@houseofpmo.com
SUMMARY:PMO HotHouse Season 3 – October 2025
DESCRIPTION:What does a Programme Office really do? Explore its purpose\, services\, roles and value in this practical PMO session. Ideal for PMO professionals working at programme level. \n\n\nThis content isn’t available for your membership level.Join Now\nAlready a member? Log in here
URL:https://houseofpmo.com/event/pmo-hothouse-season-3-october-2025/
CATEGORIES:Monthly
ATTACH;FMTTYPE=image/jpeg:https://houseofpmo.com/wp-content/uploads/2025/05/oct-pmo-hothouse.jpeg
LOCATION:https://houseofpmo.com/event/pmo-hothouse-season-3-october-2025/
END:VEVENT
BEGIN:VEVENT
DTSTART;TZID=Europe/London:20251104T150000
DTEND;TZID=Europe/London:20251104T160000
DTSTAMP:20260424T105434
CREATED:20251002T135312Z
LAST-MODIFIED:20251002T135312Z
UID:990000465-1762268400-1762272000@houseofpmo.com
SUMMARY:Rethinking Resource Management in the PMO
DESCRIPTION:What does a Programme Office really do? Explore its purpose\, services\, roles and value in this practical PMO session. Ideal for PMO professionals working at programme level. \n\n\nThis content isn’t available for your membership level.Join Now\nAlready a member? Log in here
URL:https://houseofpmo.com/event/rethinking-resource-management-in-the-pmo/
CATEGORIES:Explore,Listen and Learn
ATTACH;FMTTYPE=image/jpeg:https://houseofpmo.com/wp-content/uploads/2025/10/Rethinking-Resource-Management-PMO.jpeg
LOCATION:https://houseofpmo.com/event/rethinking-resource-management-in-the-pmo/
END:VEVENT
BEGIN:VEVENT
DTSTART;VALUE=DATE:20251111
DTEND;VALUE=DATE:20251113
DTSTAMP:20260424T105434
CREATED:20250617T143125Z
LAST-MODIFIED:20251111T111043Z
UID:990000439-1762819200-1762991999@houseofpmo.com
SUMMARY:PMO Edinburgh 2025
DESCRIPTION:What does a Programme Office really do? Explore its purpose\, services\, roles and value in this practical PMO session. Ideal for PMO professionals working at programme level. \n\n\nThis content isn’t available for your membership level.Join Now\nAlready a member? Log in here
URL:https://houseofpmo.com/event/pmo-edinburgh-2025/
LOCATION:Royal College of Physicians of Edinburgh\, 11 Queen St\, Edinburgh\, EH2 1JQ
CATEGORIES:PMO Conference,PMO Learn!
ATTACH;FMTTYPE=image/png:https://houseofpmo.com/wp-content/uploads/2025/06/PMO-Edinburgh.png
END:VEVENT
BEGIN:VEVENT
DTSTART;TZID=Europe/London:20251119T130000
DTEND;TZID=Europe/London:20251119T173000
DTSTAMP:20260424T105434
CREATED:20250827T150420Z
LAST-MODIFIED:20251002T125529Z
UID:990000457-1763557200-1763573400@houseofpmo.com
SUMMARY:Blue Light PMO Summit
DESCRIPTION:What does a Programme Office really do? Explore its purpose\, services\, roles and value in this practical PMO session. Ideal for PMO professionals working at programme level. \n\n\nThis content isn’t available for your membership level.Join Now\nAlready a member? Log in here
URL:https://houseofpmo.com/event/blue-light-pmo-summit/
LOCATION:Conrad Hotel St James\, 22-28 Broadway\, St James\, London\, SW1H 0BH\, United Kingdom
CATEGORIES:Annually,In-Person,Network and Learn
ATTACH;FMTTYPE=image/jpeg:https://houseofpmo.com/wp-content/uploads/2025/08/Ticket-Header-logo-date.jpg
END:VEVENT
BEGIN:VEVENT
DTSTART;TZID=Europe/London:20251119T173000
DTEND;TZID=Europe/London:20251119T220000
DTSTAMP:20260424T105434
CREATED:20250814T112623Z
LAST-MODIFIED:20251117T162731Z
UID:990000453-1763573400-1763589600@houseofpmo.com
SUMMARY:PMO Flashmob: London Meetup
DESCRIPTION:What does a Programme Office really do? Explore its purpose\, services\, roles and value in this practical PMO session. Ideal for PMO professionals working at programme level. \n\n\nThis content isn’t available for your membership level.Join Now\nAlready a member? Log in here
URL:https://houseofpmo.com/event/pmo-flashmob-london-meetup/
LOCATION:The Feathers Pub\, 18-20 Broadway\, St. James’s\, London SW1H 0BH\, The Feathers Pub\, 18-20 Broadway\, St James's\, London\, SW1H 0BH
CATEGORIES:PMO Flashmob,Social
ATTACH;FMTTYPE=image/jpeg:https://houseofpmo.com/wp-content/uploads/2025/08/London-PMOflashmobNov2025.jpeg
END:VEVENT
END:VCALENDAR