BEGIN:VCALENDAR
VERSION:2.0
PRODID:-//House of PMO - ECPv6.15.17//NONSGML v1.0//EN
CALSCALE:GREGORIAN
METHOD:PUBLISH
X-ORIGINAL-URL:https://houseofpmo.com
X-WR-CALDESC:Events for House of PMO
REFRESH-INTERVAL;VALUE=DURATION:PT1H
X-Robots-Tag:noindex
X-PUBLISHED-TTL:PT1H
BEGIN:VTIMEZONE
TZID:Europe/London
BEGIN:DAYLIGHT
TZOFFSETFROM:+0000
TZOFFSETTO:+0100
TZNAME:BST
DTSTART:20240331T010000
END:DAYLIGHT
BEGIN:STANDARD
TZOFFSETFROM:+0100
TZOFFSETTO:+0000
TZNAME:GMT
DTSTART:20241027T010000
END:STANDARD
BEGIN:DAYLIGHT
TZOFFSETFROM:+0000
TZOFFSETTO:+0100
TZNAME:BST
DTSTART:20250330T010000
END:DAYLIGHT
BEGIN:STANDARD
TZOFFSETFROM:+0100
TZOFFSETTO:+0000
TZNAME:GMT
DTSTART:20251026T010000
END:STANDARD
BEGIN:DAYLIGHT
TZOFFSETFROM:+0000
TZOFFSETTO:+0100
TZNAME:BST
DTSTART:20260329T010000
END:DAYLIGHT
BEGIN:STANDARD
TZOFFSETFROM:+0100
TZOFFSETTO:+0000
TZNAME:GMT
DTSTART:20261025T010000
END:STANDARD
BEGIN:DAYLIGHT
TZOFFSETFROM:+0000
TZOFFSETTO:+0100
TZNAME:BST
DTSTART:20270328T010000
END:DAYLIGHT
BEGIN:STANDARD
TZOFFSETFROM:+0100
TZOFFSETTO:+0000
TZNAME:GMT
DTSTART:20271031T010000
END:STANDARD
END:VTIMEZONE
BEGIN:VEVENT
DTSTART;TZID=Europe/London:20251128T121500
DTEND;TZID=Europe/London:20251128T130000
DTSTAMP:20260424T034350
CREATED:20250902T130427Z
LAST-MODIFIED:20250902T133719Z
UID:990000458-1764332100-1764334800@houseofpmo.com
SUMMARY:PMO HotHouse Season 3 – November 2025
DESCRIPTION:It’s November and we’re back with another PMO HotHouse. \nHotHouse brings together Lindsay Scott\, Eileen Roden and John McIntyre each month for 45 minutes to give you your shot of PMO inspiration. \nThis month will be a bumper session of out and abouts. latest news\, hot or not and it’s Black Friday! \nWe have different features each month – kicking off with the latest news and research in PMO. You can expect to see segments on different aspects of PMO that we can learn from\, a guest or two that shares their insights – plus plenty of interaction with attendees to keep you on your toes. \nIf you’re looking for a short\, monthly PMO fix that keeps you in the loop\, make sure PMO HotHouse is marked on your calendar. \nCan’t make it? Check out any missed sessions or catch up at our YouTube stream. \nJoin us in the HotHouse for your regular monthly shot of PMO inspiration. \n📍 Live streaming on YouTube: https://www.youtube.com/@houseofpmo\n📍 Also available on LinkedIn: House of PMO company page \n 
URL:https://houseofpmo.com/event/pmo-hothouse-season-3-november-2025/
CATEGORIES:Monthly
ATTACH;FMTTYPE=image/jpeg:https://houseofpmo.com/wp-content/uploads/2025/09/November-PMOHotHouse-1.jpeg
LOCATION:https://houseofpmo.com/event/pmo-hothouse-season-3-november-2025/
END:VEVENT
BEGIN:VEVENT
DTSTART;TZID=Europe/London:20251219T121500
DTEND;TZID=Europe/London:20251219T130000
DTSTAMP:20260424T034350
CREATED:20250902T133943Z
LAST-MODIFIED:20251209T154007Z
UID:990000459-1766146500-1766149200@houseofpmo.com
SUMMARY:PMO HotHouse Season 3 – December 2025
DESCRIPTION:Final PMO HotHouse of the Year! \nHotHouse brings together Lindsay Scott\, Eileen Roden and John McIntyre each month for 45 minutes to give you your shot of PMO inspiration. \nWe have different features each month – kicking off with the latest news and research in PMO. You can expect to see segments on different aspects of PMO that we can learn from\, a guest or two that shares their insights – plus plenty of interaction with attendees to keep you on your toes. \nIn the final session of the year and yes we’ll be looking back at 2025 and all the things we’ve learnt – things we can be happy about as we move into a New Year! \nIf you’re looking for a short\, monthly PMO fix that keeps you in the loop\, make sure PMO HotHouse is marked on your calendar. \nCan’t make it? Check out any missed sessions or catch up at our YouTube stream. \nJoin us in the HotHouse for your regular monthly shot of PMO inspiration. \n📍 Live streaming on YouTube: https://www.youtube.com/@houseofpmo\n📍 Also available on LinkedIn: House of PMO company page \n 
URL:https://houseofpmo.com/event/pmo-hothouse-season-3-december-2025/
CATEGORIES:Monthly
ATTACH;FMTTYPE=image/jpeg:https://houseofpmo.com/wp-content/uploads/2025/09/DEcember-PMOHotHouse-1.jpeg
LOCATION:https://houseofpmo.com/event/pmo-hothouse-season-3-december-2025/
END:VEVENT
BEGIN:VEVENT
DTSTART;TZID=Europe/London:20260130T121500
DTEND;TZID=Europe/London:20260130T130000
DTSTAMP:20260424T034350
CREATED:20251130T191836Z
LAST-MODIFIED:20251130T192147Z
UID:990000472-1769775300-1769778000@houseofpmo.com
SUMMARY:PMO HotHouse / Kicking Off 2026
DESCRIPTION:Join us for your monthly PMO fix – in just 45 minutes you’ll get the latest news for PMO professionals\, special guests\, loads of insights and signposts to further learning. \nMake it your regular 45-minute check-in – a small habit that keeps your PMO thinking sharp all year! \nKicking off the New Year and we’ll be diving into the latest news\, EVERYTHING we’ve learnt from being Out and About plus a special guest in the Hot Seat. \nIt’ll be a bumper packed session – designed to give you a whole host of ideas for you and your PMO as we head into the new year – plus it’s that little bit of sparkle in an otherwise dreary month! \nPMO HotHouse is also livestreamed on Linkedin and YouTube – or you can register to be in the live audience\, taking part in the chats and discussions\, you choose! \n  \n 
URL:https://houseofpmo.com/event/pmo-hothouse-kicking-off-2026/
CATEGORIES:Free,Monthly
ATTACH;FMTTYPE=image/png:https://houseofpmo.com/wp-content/uploads/2025/11/Hot-House2026-2.png
LOCATION:https://houseofpmo.com/event/pmo-hothouse-kicking-off-2026/
END:VEVENT
BEGIN:VEVENT
DTSTART;TZID=Europe/London:20260227T121500
DTEND;TZID=Europe/London:20260227T130000
DTSTAMP:20260424T034350
CREATED:20251130T193701Z
LAST-MODIFIED:20251130T193703Z
UID:990000473-1772194500-1772197200@houseofpmo.com
SUMMARY:PMO HotHouse / Your February Fix!
DESCRIPTION:Join us for your monthly PMO fix – in just 45 minutes you’ll get the latest news for PMO professionals\, special guests\, loads of insights and signposts to further learning. \nMake it your regular 45-minute check-in – a small habit that keeps your PMO thinking sharp all year! \nIt’ll be a bumper packed session (it always is!) – designed to give you a whole host of ideas for you and your PMO – just what you need for the February month of love #lovePMO \nPMO HotHouse is also livestreamed on Linkedin and YouTube – or you can register to be in the live audience\, taking part in the chats and discussions\, you choose! \n  \n 
URL:https://houseofpmo.com/event/pmo-hothouse-your-february-fix/
CATEGORIES:Listen and Learn,Monthly
ATTACH;FMTTYPE=image/png:https://houseofpmo.com/wp-content/uploads/2025/11/Hot-House2026-february.png
LOCATION:https://houseofpmo.com/event/pmo-hothouse-your-february-fix/
END:VEVENT
BEGIN:VEVENT
DTSTART;TZID=Europe/London:20260327T121500
DTEND;TZID=Europe/London:20260327T130000
DTSTAMP:20260424T034350
CREATED:20251130T194743Z
LAST-MODIFIED:20251130T194746Z
UID:990000474-1774613700-1774616400@houseofpmo.com
SUMMARY:PMO HotHouse - Your March Fix!
DESCRIPTION:Join us for your monthly PMO fix – in just 45 minutes you’ll get the latest news for PMO professionals\, special guests\, loads of insights and signposts to further learning. \nMake it your regular 45-minute check-in – a small habit that keeps your PMO thinking sharp all year! \nIt’ll be a bumper packed session (it always is!) – designed to give you a whole host of ideas for you and your PMO – just what you need for the February month of love #lovePMO \nPMO HotHouse is also livestreamed on Linkedin and YouTube – or you can register to be in the live audience\, taking part in the chats and discussions\, you choose! \n  \n 
URL:https://houseofpmo.com/event/pmo-hothouse-your-march-fix/
CATEGORIES:Free,Monthly
ATTACH;FMTTYPE=image/png:https://houseofpmo.com/wp-content/uploads/2025/11/Hot-House2026-march.png
LOCATION:https://houseofpmo.com/event/pmo-hothouse-your-march-fix/
END:VEVENT
END:VCALENDAR